BEGIN:VCALENDAR
VERSION:2.0
METHOD:PUBLISH
PRODID:-//Agenda.ad//NONSGML v1.0//EN
BEGIN:VEVENT
CLASS:PUBLIC
UID:763ed3d8f63c653198b8513557a168fc@agenda.ad
DTSTAMP:20260424T072451Z
DTSTART:20200117T230000Z
DTEND:20200117T230000Z
SUMMARY:<span><span>'La volta al m&oacute;n en vuitanta dies'</span>&nbsp;&middot; Saison Culturelle</span>
DESCRIPTION:El musical\n\nMÃ©s informaciÃ³\nhttps://www.agenda.ad/activi
 tat/sant-julia-de-loria/musica/-la-volta-al-mon-en-vuitanta-
 dies-Â -saison-culturelle\n\n\nOrganitza\nAmbaixada de FranÃ
 §a a Andorra
LOCATION:Centre Cultural LaurediÃ 
SEQUENCE:0
TRANSP:OPAQUE
X-ALT-DESC;FMTTYPE=text/html:<!DOCTYPE HTML PUBLIC "-//W3C//DTD HTML 3.2//EN"><HTML><HEAD
 ><TITLE></TITLE></HEAD><BODY><FONT FACE="Arial" SIZE=2>El mu
 sical<br/><br/><b>MÃ©s informaciÃ³</b><br/><a href="https://
 www.agenda.ad/activitat/sant-julia-de-loria/musica/-la-volta
 -al-mon-en-vuitanta-dies-Â -saison-culturelle">https://www.a
 genda.ad/activitat/sant-julia-de-loria/musica/-la-volta-al-m
 on-en-vuitanta-dies-Â -saison-culturelle</a><br/><br/><br/><
 b>Organitza</b><br/>Ambaixada de FranÃ§a a Andorra</FONT></B
 ODY></HTML>
END:VEVENT
END:VCALENDAR